BEGIN:VCALENDAR
VERSION:2.0
PRODID:-//wp-events-plugin.com//7.2.3.1//EN
TZID:Europe/Zurich
X-WR-TIMEZONE:Europe/Zurich
BEGIN:VEVENT
UID:293@wotans-tierbetreuung.ch
DTSTART;TZID=Europe/Zurich:20250314T150000
DTEND;TZID=Europe/Zurich:20250314T154500
DTSTAMP:20250223T201123Z
URL:https://www.wotans-tierbetreuung.ch/veranstaltungen/lernspaziergang-al
 ltagsthemen-42/
SUMMARY:Lernspaziergang Alltagsthemen
DESCRIPTION:Bei diesem Lernspaziergang machen wir Übungen zu Alltagsthemen
  wie Hundebegegnungen\, Frusttoleranz\, Impulskontrolle\, ect. Der Ort wir
 d jeweils vorher bekannt gegeben. Die Spaziergänge finden in und um Aarwa
 ngen statt und wechseln zwischen Feld\, Wald und Stadt ab.\n\nAlle Teams s
 ind herzlich willkommen\n\nAnmeldung unter 079 697 70 89 oder unserem Kont
 aktformular
ATTACH;FMTTYPE=image/jpeg:https://www.wotans-tierbetreuung.ch/wp-content/u
 ploads/2023/08/548634-1-jpg.webp
CATEGORIES:Lern- und Themenspaziergang
END:VEVENT
BEGIN:VTIMEZONE
TZID:Europe/Zurich
X-LIC-LOCATION:Europe/Zurich
BEGIN:STANDARD
DTSTART:20241027T020000
TZOFFSETFROM:+0200
TZOFFSETTO:+0100
TZNAME:CET
END:STANDARD
END:VTIMEZONE
END:VCALENDAR