BEGIN:VCALENDAR
VERSION:2.0
PRODID:-//wp-events-plugin.com//7.2.3.1//EN
TZID:Europe/Zurich
X-WR-TIMEZONE:Europe/Zurich
BEGIN:VEVENT
UID:4@wotans-tierbetreuung.ch
DTSTART;TZID=Europe/Zurich:20230813T100000
DTEND;TZID=Europe/Zurich:20230813T170000
DTSTAMP:20230806T215411Z
URL:https://www.wotans-tierbetreuung.ch/veranstaltungen/spendenveranstaltu
 ng-wotans-tierhilfe/
SUMMARY:Spendenveranstaltung Wotans Tierhilfe
DESCRIPTION:Liebe Tierfreunde\,\n\nwir möchten Sie herzlich zu unserer Spe
 ndenveranstaltung zugunsten von Wotans Tierhilfe einladen! Gemeinsam möch
 ten wir uns für den Schutz und das Wohl unserer tierischen Schützlinge e
 insetzen und ihnen eine bessere Zukunft ermöglichen.\n\nWas erwartet Sie 
 bei unserer Veranstaltung?\n\n 	Lassen Sie sich von Natacha Joy Ink mit wu
 nderschönen Piercings verschönern und unterstützen Sie gleichzeitig uns
 ere Tierschutzarbeit.\n 	Geniessen Sie köstliche Verpflegung und erfrisch
 enden Eiskaffee\, während Sie mehr über unsere Projekte erfahren.\n 	Sic
 hern Sie sich ein unvergessliches Minishooting von Gotzi's Photography und
  nehmen Sie bleibende Erinnerungen mit nach Hause.\n\nEs wird ein Tag voll
 er Freude und Unterstützung für unsere Fellnasen! Jeder gesammelte Beitr
 ag kommt direkt den Tieren zugute und hilft uns\, für ihre Bedürfnisse z
 u sorgen.\n\nWo: Industriestrasse 30\, 4912 Aarwangen\n\nDatum: 13. August
  2023.\n\nDauer: von 10:00 bis 17:00 Uhr\n\nWir freuen uns auf zahlreiches
  Erscheinen und Ihre Unterstützung für Wotans Tierhilfe. Gemeinsam könn
 en wir einen Unterschied machen!\n\nHerzliche Grüsse\, Das Team von Wotan
 s Tierhilfe
ATTACH;FMTTYPE=image/jpeg:https://www.wotans-tierbetreuung.ch/wp-content/u
 ploads/2023/07/Spendenveranstaltung-Wotans-Tierhilfe-13.-August-Highlights
 .jpg
LOCATION:Hundepension Wotans Tierbetreuung\, Industriestrasse 30\, Aarwange
 n\, 4912\, Schweiz
X-APPLE-STRUCTURED-LOCATION;VALUE=URI;X-ADDRESS=Industriestrasse 30\, Aarwa
 ngen\, 4912\, Schweiz;X-APPLE-RADIUS=100;X-TITLE=Hundepension Wotans Tierb
 etreuung:geo:0,0
END:VEVENT
BEGIN:VTIMEZONE
TZID:Europe/Zurich
X-LIC-LOCATION:Europe/Zurich
BEGIN:DAYLIGHT
DTSTART:20230326T030000
TZOFFSETFROM:+0100
TZOFFSETTO:+0200
TZNAME:CEST
END:DAYLIGHT
END:VTIMEZONE
END:VCALENDAR